BEGIN:VCALENDAR
VERSION:2.0
PRODID:icalendar-ruby
CALSCALE:GREGORIAN
METHOD:PUBLISH
BEGIN:VEVENT
DTSTAMP:20260421T115626Z
UID:222-19481@fbctown.com
DTSTART:20260429T223000Z
DTEND:20260429T233000Z
CLASS:PUBLIC
CREATED:20260420T112719
DESCRIPTION:Pastor Shea will be leading an adult community group in the fel
 lowship hall at 6:30 PM.  We will be discussing the heart\, DNA\, habits\
 , and environment of a Disciple maker.  Youth and children will be meetin
 g at the same time\, and we’d love to have you join us!\nFBC
LAST-MODIFIED:20260420T112719
LOCATION:FBC
SUMMARY:FBC Adult Community Group
URL;VALUE=URI:https://fbctown.com/events/fbc-adult-community-group--222/202
 6-04-29
END:VEVENT
END:VCALENDAR
