BEGIN:VCALENDAR
VERSION:2.0
PRODID:icalendar-ruby
CALSCALE:GREGORIAN
METHOD:PUBLISH
BEGIN:VEVENT
DTSTAMP:20260421T114721Z
UID:191-19478@fbctown.com
DTSTART:20260517T223000Z
DTEND:20260517T233000Z
CLASS:PUBLIC
CREATED:20260414T115220
DESCRIPTION:All members are encouraged to come to the Member's Meeting in t
 he fellowship all.\n \nStewardship Committee will meet prior at 5:30 PM i
 n the library.
LAST-MODIFIED:20260414T115220
LOCATION:FBC
SUMMARY:Member Meeting
URL;VALUE=URI:https://fbctown.com/events/member-meeting--191/2026-05-17
END:VEVENT
END:VCALENDAR
