BEGIN:VCALENDAR
VERSION:2.0
PRODID:icalendar-ruby
CALSCALE:GREGORIAN
METHOD:PUBLISH
BEGIN:VEVENT
DTSTAMP:20260421T075642Z
UID:160-12433@fbctown.com
DTSTART:20250927T213000Z
DTEND:20250928T003000Z
CLASS:PUBLIC
CREATED:20250904T102437
DESCRIPTION:Hey Youth!  Invite a friend or 2 to join you at the Bonfire. C
 ome for good food and fellowship!  Any questions\, please contact the off
 ice at 812-256-3421.
LAST-MODIFIED:20250904T102437
LOCATION:Speth Home
SUMMARY:Youth Bonfire
URL;VALUE=URI:https://fbctown.com/events/youth-bonfire/2025-09-27
END:VEVENT
END:VCALENDAR
